BEGIN:VCALENDAR
VERSION:2.0
PRODID:-//Uilt Piemonte - ECPv6.15.17.1//NONSGML v1.0//EN
CALSCALE:GREGORIAN
METHOD:PUBLISH
X-WR-CALNAME:Uilt Piemonte
X-ORIGINAL-URL:https://www.uiltpiemonte.it
X-WR-CALDESC:Eventi per Uilt Piemonte
REFRESH-INTERVAL;VALUE=DURATION:PT1H
X-Robots-Tag:noindex
X-PUBLISHED-TTL:PT1H
BEGIN:VTIMEZONE
TZID:Europe/Rome
BEGIN:DAYLIGHT
TZOFFSETFROM:+0100
TZOFFSETTO:+0200
TZNAME:CEST
DTSTART:20250330T010000
END:DAYLIGHT
BEGIN:STANDARD
TZOFFSETFROM:+0200
TZOFFSETTO:+0100
TZNAME:CET
DTSTART:20251026T010000
END:STANDARD
BEGIN:DAYLIGHT
TZOFFSETFROM:+0100
TZOFFSETTO:+0200
TZNAME:CEST
DTSTART:20260329T010000
END:DAYLIGHT
BEGIN:STANDARD
TZOFFSETFROM:+0200
TZOFFSETTO:+0100
TZNAME:CET
DTSTART:20261025T010000
END:STANDARD
BEGIN:DAYLIGHT
TZOFFSETFROM:+0100
TZOFFSETTO:+0200
TZNAME:CEST
DTSTART:20270328T010000
END:DAYLIGHT
BEGIN:STANDARD
TZOFFSETFROM:+0200
TZOFFSETTO:+0100
TZNAME:CET
DTSTART:20271031T010000
END:STANDARD
END:VTIMEZONE
BEGIN:VEVENT
DTSTART;TZID=Europe/Rome:20260517T210000
DTEND;TZID=Europe/Rome:20260517T230000
DTSTAMP:20260420T094306
CREATED:20260330T065853Z
LAST-MODIFIED:20260330T065853Z
UID:987517114-1779051600-1779058800@www.uiltpiemonte.it
SUMMARY:Le avventure di H.Z.
DESCRIPTION:Venite a sorridere\, riflettere\, viaggiare e ridere con noi nel mondo di H.Z.Un mondo magico dove virtù umane\, supereroi e personaggi rocamboleschi si incontrano per dare vita ad uno spettacolo dove albergano le virtù umane dell’Amore\, Conoscenza\, Semplicità e Coraggio. \nNe Le Avventure di H.Z.\, teatro\, musica e danza dialogano per raccontare un viaggio tra passato\, presente e futuro: tra misteriosi uomini del futuro che vanno di porta in porta con la promessa di vendere agli uomini longevità\, salute\, fama ed ispirazione a colpi di algoritmi e codici binari e chi difende un mondo lento\, fatto di parole\, ricordi e passione. A condire la riflessione\, gli esilaranti colpi di scena di una domestica tutto-fare e di un quadro-Musa che impartisce saggi consigli ed ispirazione dall’alto della sua esperienza centenaria… \nUno spettacolo vincitore del bando UILT e della rassegna InFesTanti dove tra ironia\, poesia e sorpresa si affronta in modo inedito e divertente il tema dell’Intelligenza Artificiale\, del progresso umano e della creazione artistica. \n  \nBiglietti a prezzo ridotto fino al 15 Aprile\n12€ (fino ad esaurimento posti prevendita) \nPer prenotazioni:\n+39 3493962510\nhayllinzed@gmail.com \nVi aspettiamo\n🎊Domenica 17 maggio ore 21 – ingresso dalle ore 2030\n🎭 Teatro Le Rosine – Via Giovanni Plana 8/C\, Torino \n 
URL:https://www.uiltpiemonte.it/evento/le-avventure-di-h-z-2/
LOCATION:Teatro Le Rosine – Torino\, Via Giovanni Plana 8/C\, Torino
CATEGORIES:ASSOCIAZIONE MUSTOKLAB
ATTACH;FMTTYPE=image/jpeg:https://www.uiltpiemonte.it/wp-content/uploads/2026/03/le-avventure-di-HZ.jpeg
END:VEVENT
END:VCALENDAR